BEGIN:VCALENDAR
VERSION:2.0
PRODID:-//eventon.com NONSGML v1.0//EN
CALSCALE:GREGORIAN
METHOD:PUBLISH
BEGIN:VEVENT
UID:69e695980fa44
DTSTAMP:20260420T210736Z
DTSTART:20251114T090000Z
DTEND:20251114T100000Z
LOCATION:
SUMMARY:Principles of project planning
DESCRIPTION:Today it is almost becoming a «trend» to substitute concepts 
 or not ask the question: «What is the actual difference between concepts t
 hat at first glance are very similar to each other?» For us at the Club\, 
  this is still an important question ) There are managers\,  and there are[
 ..]\nhttps://abc-pro.org/events/principles-of-project-planning/var/event_ac
 cess
URL:https://abc-pro.org/events/principles-of-project-planning/var/event_access
END:VEVENT
END:VCALENDAR